BEGIN:VCALENDAR
VERSION:2.0
PRODID:-//Squarespace Inc/Squarespace 6//v6//EN
BEGIN:VEVENT
UID:5e325020d36e1a61903bd2d3@squarespace.com
DTSTAMP:20200130T040144Z
DTSTART:20200203T040000Z
DTEND:20200203T050000Z
SUMMARY:The Mercantile's Bushfire Fundraiser
GEO:-33.857059;151.208328
LOCATION:The Mercantile Hotel\, 25-27 George Street\, The Rocks\, The Rocks
 \, Australia
END:VEVENT
END:VCALENDAR
