BEGIN:VCALENDAR
VERSION:2.0
PRODID:-//Squarespace Inc/Squarespace 6//v6//EN
BEGIN:VEVENT
UID:5de88bfd6e1126209065213e@squarespace.com
DTSTAMP:20200110T030325Z
DTSTART:20200117T003000Z
DTEND:20200117T040000Z
SUMMARY:THURSDAY SESSIONS
GEO:-33.857501;151.20866
LOCATION:The Mercantile Hotel\, 25 George Street\, The Rocks\, NSW\, 2000\, 
 Australia
END:VEVENT
END:VCALENDAR
