BEGIN:VCALENDAR
VERSION:2.0
PRODID:-//Squarespace Inc/Squarespace 6//v6//EN
BEGIN:VEVENT
UID:5e0c141a9df9c819e0f1be0d@squarespace.com
DTSTAMP:20200101T033818Z
DTSTART:20200110T003000Z
DTEND:20200110T040000Z
SUMMARY:THURSDAY SESSIONS
GEO:-33.857501;151.20866
LOCATION:The Mercantile Hotel\, 25 George Street\, The Rocks\, NSW\, 2000\, 
 Australia
END:VEVENT
END:VCALENDAR
