BEGIN:VCALENDAR
VERSION:2.0
PRODID:-//Squarespace Inc/Squarespace 6//v6//EN
BEGIN:VEVENT
UID:5e17ec7329c73107fc2db2aa@squarespace.com
DTSTAMP:20200117T071520Z
DTSTART:20200127T210000Z
DTEND:20200128T000000Z
SUMMARY:PUBLIC HOLIDAY MONDAY
GEO:-33.857501;151.20866
LOCATION:The Mercantile Hotel\, 25 George Street\, The Rocks\, NSW\, 2000\, 
 Australia
END:VEVENT
END:VCALENDAR
