BEGIN:VCALENDAR
VERSION:2.0
PRODID:-//Squarespace Inc/Squarespace 6//v6//EN
BEGIN:VEVENT
UID:5e291a5678c38064efb8f2dc@squarespace.com
DTSTAMP:20200123T040047Z
DTSTART:20200207T003000Z
DTEND:20200207T040000Z
SUMMARY:THURSDAY SESSIONS
GEO:-33.857501;151.20866
LOCATION:The Mercantile Hotel\, 25 George Street\, The Rocks\, NSW\, 2000\, 
 Australia
END:VEVENT
END:VCALENDAR
