BEGIN:VCALENDAR
VERSION:2.0
PRODID:-//Squarespace Inc/Squarespace 6//v6//EN
BEGIN:VEVENT
UID:5e3a3860feb09e0f357f91d3@squarespace.com
DTSTAMP:20200205T033735Z
DTSTART:20200221T003000Z
DTEND:20200221T040000Z
SUMMARY:THURSDAY SESSIONS
GEO:-33.857501;151.20866
LOCATION:The Mercantile Hotel\, 25 George Street\, The Rocks\, NSW\, 2000\, 
 Australia
END:VEVENT
END:VCALENDAR
