BEGIN:VCALENDAR
VERSION:2.0
PRODID:-//Squarespace Inc/Squarespace 6//v6//EN
BEGIN:VEVENT
UID:5e463f7a9ea1a75b83df44a9@squarespace.com
DTSTAMP:20200214T063455Z
DTSTART:20200228T003000Z
DTEND:20200228T040000Z
SUMMARY:THURSDAY SESSIONS
GEO:-33.857501;151.20866
LOCATION:The Mercantile Hotel\, 25 George Street\, The Rocks\, NSW\, 2000\, 
 Australia
END:VEVENT
END:VCALENDAR
