BEGIN:VCALENDAR
VERSION:2.0
PRODID:-//Squarespace Inc/Squarespace 6//v6//EN
BEGIN:VEVENT
UID:5e0c0e4a9df9c819e0f1616c@squarespace.com
DTSTAMP:20200101T031456Z
DTSTART:20200103T220000Z
DTEND:20200104T010000Z
SUMMARY:FRIDAY SESSIONS
GEO:-33.857501;151.20866
LOCATION:The Mercantile Hotel\, 25 George Street\, The Rocks\, NSW\, 2000\, 
 Australia
END:VEVENT
END:VCALENDAR
