BEGIN:VCALENDAR
VERSION:2.0
PRODID:-//Squarespace Inc/Squarespace 6//v6//EN
BEGIN:VEVENT
UID:5d1d890a83dfbe00019b85c0@squarespace.com
DTSTAMP:20190819T061154Z
DTSTART:20190830T210000Z
DTEND:20190831T000000Z
SUMMARY:FRIDAY ACOUSTIC SESSION
GEO:-33.857501;151.20866
LOCATION:Mercantile Hotel\, 25 George Street\, The Rocks\, NSW\, 2000\, Aus
 tralia
END:VEVENT
END:VCALENDAR
