BEGIN:VCALENDAR
VERSION:2.0
PRODID:-//Squarespace Inc/Squarespace 6//v6//EN
BEGIN:VEVENT
UID:5d4c0f2344201000013b7555@squarespace.com
DTSTAMP:20190829T071322Z
DTSTART:20190906T210000Z
DTEND:20190907T000000Z
SUMMARY:FRIDAY ACOUSTIC SESSION
GEO:-33.857501;151.20866
LOCATION:Mercantile Hotel\, 25 George Street\, The Rocks\, NSW\, 2000\, Aus
 tralia
END:VEVENT
END:VCALENDAR
