BEGIN:VCALENDAR
VERSION:2.0
PRODID:-//Squarespace Inc/Squarespace 6//v6//EN
BEGIN:VEVENT
UID:5de09dfa36172f0b2f7cd02e@squarespace.com
DTSTAMP:20191205T045030Z
DTSTART:20191206T210000Z
DTEND:20191206T233000Z
SUMMARY:FRIDAY ACOUSTIC SESSIONS
GEO:-33.857501;151.20866
LOCATION:Mercantile Hotel\, 25 George Street\, The Rocks\, NSW\, 2000\, Aus
 tralia
END:VEVENT
END:VCALENDAR
