BEGIN:VCALENDAR
VERSION:2.0
PRODID:-//Squarespace Inc/Squarespace 6//v6//EN
BEGIN:VEVENT
UID:5de88c5cf365a474da4810db@squarespace.com
DTSTAMP:20200110T033644Z
DTSTART:20200110T220000Z
DTEND:20200111T010000Z
SUMMARY:FRIDAY ACOUSTIC SESSIONS
GEO:-33.857501;151.20866
LOCATION:Mercantile Hotel\, 25 George Street\, The Rocks\, NSW\, 2000\, Aus
 tralia
END:VEVENT
END:VCALENDAR
