BEGIN:VCALENDAR
VERSION:2.0
PRODID:-//Squarespace Inc/Squarespace 6//v6//EN
BEGIN:VEVENT
UID:5e21604212182f60debafdd5@squarespace.com
DTSTAMP:20200117T072050Z
DTSTART:20200131T220000Z
DTEND:20200201T010000Z
SUMMARY:FRIDAY ACOUSTIC SESSIONS
GEO:-33.857501;151.20866
LOCATION:Mercantile Hotel\, 25 George Street\, The Rocks\, NSW\, 2000\, Aus
 tralia
END:VEVENT
END:VCALENDAR
