BEGIN:VCALENDAR
VERSION:2.0
PRODID:-//Squarespace Inc/Squarespace 6//v6//EN
BEGIN:VEVENT
UID:5e30f48bc0845d4b9d1f962b@squarespace.com
DTSTAMP:20200129T025739Z
DTSTART:20200214T220000Z
DTEND:20200215T010000Z
SUMMARY:FRIDAY ACOUSTIC SESSIONS 
GEO:-33.857501;151.20866
LOCATION:Mercantile Hotel\, 25 George Street\, The Rocks\, NSW\, 2000\, Aus
 tralia
END:VEVENT
END:VCALENDAR
