BEGIN:VCALENDAR
VERSION:2.0
PRODID:-//Squarespace Inc/Squarespace 6//v6//EN
BEGIN:VEVENT
UID:5e012b142fb9601681f332b7@squarespace.com
DTSTAMP:20191223T210633Z
DTSTART:20191227T220000Z
DTEND:20191228T010000Z
SUMMARY:FRIDAY ACOUSTIC SESSIONS
GEO:-33.857501;151.20866
LOCATION:Mercantile Hotel\, 25 George Street\, The Rocks\, NSW\, 2000\, Aus
 tralia
END:VEVENT
END:VCALENDAR
