BEGIN:VCALENDAR
VERSION:2.0
PRODID:-//Squarespace Inc/Squarespace 6//v6//EN
BEGIN:VEVENT
UID:5d6789baf2d5bd0001ebabb9@squarespace.com
DTSTAMP:20190829T082157Z
DTSTART:20190908T000000Z
DTEND:20190908T043000Z
SUMMARY:"STRANGER THINGS" RETRO PARTY
GEO:-33.857501;151.20866
LOCATION:Mercantile Hotel\, 25 George Street\, The Rocks\, NSW\, 2000\, Aus
 tralia
END:VEVENT
END:VCALENDAR
