BEGIN:VCALENDAR
VERSION:2.0
PRODID:-//Squarespace Inc/Squarespace 6//v6//EN
BEGIN:VEVENT
UID:58f05b76e3df28353c541c98@squarespace.com
DTSTAMP:20190905T061643Z
DTSTART:20190907T150000Z
DTEND:20190909T030000Z
SUMMARY:GUINNESS &amp\; OYSTER FESTIVAL
GEO:-33.857501;151.20866
LOCATION:Mercantile Hotel\, 25 George Street\, The Rocks\, NSW\, 2000\, Aus
 tralia
END:VEVENT
END:VCALENDAR
