BEGIN:VCALENDAR
VERSION:2.0
PRODID:-//Squarespace Inc/Squarespace 6//v6//EN
BEGIN:VEVENT
UID:5d78dcda45d3bf7078fc51a8@squarespace.com
DTSTAMP:20190911T114057Z
DTSTART:20190929T190000Z
DTEND:20190929T230000Z
SUMMARY:ELEVATION U2 TRIBUTE - 30 YEARS
GEO:-33.857059;151.208328
LOCATION:The Mercantile Hotel\, 25-27 George Street\, The Rocks\, Sydney\, 
 Australia
END:VEVENT
END:VCALENDAR
