BEGIN:VCALENDAR
VERSION:2.0
PRODID:-//Squarespace Inc/Squarespace 6//v6//EN
BEGIN:VEVENT
UID:5d9439c661beb379b28658fe@squarespace.com
DTSTAMP:20191002T070831Z
DTSTART:20191004T001500Z
DTEND:20191004T020000Z
SUMMARY:RWC IRELAND v RUSSIA - LIVE &amp\; LOUD
GEO:-33.857059;151.208328
LOCATION:The Mercantile Hotel\, 25-27 George Street\, The Rocks\, Sydney\, 
 Australia
END:VEVENT
END:VCALENDAR
