BEGIN:VCALENDAR
VERSION:2.0
PRODID:-//Squarespace Inc/Squarespace 6//v6//EN
BEGIN:VEVENT
UID:5d944a683bc05e1723aa3443@squarespace.com
DTSTAMP:20191002T070321Z
DTSTART:20191013T014500Z
DTEND:20191013T031500Z
SUMMARY:RWC IRELAND v SAMOA - LIVE &amp\; LOUD
GEO:-33.857059;151.208328
LOCATION:The Mercantile Hotel\, 25-27 George Street\, The Rocks\, Sydney\, 
 Australia
END:VEVENT
END:VCALENDAR
