BEGIN:VCALENDAR
VERSION:2.0
PRODID:-//Squarespace Inc/Squarespace 6//v6//EN
BEGIN:VEVENT
UID:5d89d97222a4747095bda91b@squarespace.com
DTSTAMP:20190924T093556Z
DTSTART:20190928T183000Z
DTEND:20190928T210000Z
SUMMARY:AFL GRAND FINAL - LIVE &amp\; LOUD
GEO:-33.857059;151.208328
LOCATION:The Mercantile Hotel\, 25-27 George Street\, The Rocks\, Sydney\, 
 Australia
END:VEVENT
END:VCALENDAR
