BEGIN:VCALENDAR
VERSION:2.0
PRODID:-//Squarespace Inc/Squarespace 6//v6//EN
BEGIN:VEVENT
UID:5d8d979a9a3b130ef0dde5f6@squarespace.com
DTSTAMP:20190927T050201Z
DTSTART:20190927T210000Z
DTEND:20190928T003000Z
SUMMARY:FRIDAY ACOUSTIC SESSIONS
GEO:-33.857059;151.208328
LOCATION:The Mercantile Hotel\, 25-27 George Street\, The Rocks\, Sydney\, 
 Australia
END:VEVENT
END:VCALENDAR
