BEGIN:VCALENDAR
VERSION:2.0
PRODID:-//Squarespace Inc/Squarespace 6//v6//EN
BEGIN:VEVENT
UID:5d78d62820b9a9104f8abfed@squarespace.com
DTSTAMP:20190911T114306Z
DTSTART:20190922T160000Z
DTEND:20190923T020000Z
SUMMARY:RUGBY WORLD CUP - IRELAND v SCOTLAND
GEO:-33.857059;151.208328
LOCATION:The Mercantile Hotel\, 25-27 George Street\, The Rocks\, Sydney\, 
 Australia
END:VEVENT
END:VCALENDAR
