BEGIN:VCALENDAR
VERSION:2.0
PRODID:-//Squarespace Inc/Squarespace 6//v6//EN
BEGIN:VEVENT
UID:5d7730e506b2cb050b328caa@squarespace.com
DTSTAMP:20190911T081518Z
DTSTART:20190913T200000Z
DTEND:20190913T230000Z
SUMMARY:FRINGE FESTIVAL - YOUNG HENRYS BAR SHOUT
GEO:-33.857059;151.208328
LOCATION:The Mercantile Hotel\, 25-27 George Street\, The Rocks\, Sydney\, 
 Australia
END:VEVENT
END:VCALENDAR
