BEGIN:VCALENDAR
VERSION:2.0
PRODID:-//Squarespace Inc/Squarespace 6//v6//EN
BEGIN:VEVENT
UID:5d78aa7ea47f7059a8d60dd4@squarespace.com
DTSTAMP:20190911T082004Z
DTSTART:20190901T083000Z
DTEND:20191001T033000Z
SUMMARY:FRINGE FESTIVAL - MERC'S MONTH OF MAGIC
GEO:-33.857059;151.208328
LOCATION:The Mercantile Hotel\, 25-27 George Street\, The Rocks\, Sydney\, 
 Australia
END:VEVENT
END:VCALENDAR
