BEGIN:VCALENDAR
VERSION:2.0
PRODID:-//Squarespace Inc/Squarespace 6//v6//EN
BEGIN:VEVENT
UID:5d772c4818e70438e3ea6027@squarespace.com
DTSTAMP:20190911T081509Z
DTSTART:20190901T050000Z
DTEND:20191001T030000Z
SUMMARY:FRINGE FESTIVAL - WINE OF THE MONTH
GEO:-33.857059;151.208328
LOCATION:The Mercantile Hotel\, 25-27 George Street\, The Rocks\, Sydney\, 
 Australia
END:VEVENT
END:VCALENDAR
