BEGIN:VCALENDAR
VERSION:2.0
PRODID:-//Squarespace Inc/Squarespace 6//v6//EN
BEGIN:VEVENT
UID:5d64d6f29af1e50001ee8982@squarespace.com
DTSTAMP:20190827T072937Z
DTSTART:20190901T150000Z
DTEND:20190902T030000Z
SUMMARY:FATHER'S DAY - $20 PIE &amp\; PINT
GEO:-33.85721;151.208341
LOCATION:The Mercantile Hotel\, 25-27 George Street\, The Rocks\, NSW\, 200
 0\, Australia
END:VEVENT
END:VCALENDAR
