BEGIN:VCALENDAR
VERSION:2.0
PRODID:-//Squarespace Inc/Squarespace 6//v6//EN
BEGIN:VEVENT
UID:5d132e8cb789b700016b1384@squarespace.com
DTSTAMP:20190626T084543Z
DTSTART:20190711T220000Z
DTEND:20190715T010000Z
SUMMARY:The Rocks Christmas in July Market
GEO:-33.857059;151.208328
LOCATION:The Mercantile Hotel\, 25-27 George Street\, The Rocks\, NSW\, 200
 0\, Australia
END:VEVENT
END:VCALENDAR
