BEGIN:VCALENDAR
VERSION:2.0
PRODID:-//Squarespace Inc/Squarespace 6//v6//EN
BEGIN:VEVENT
UID:5b57e49e2b6a288bca04fd7e@squarespace.com
DTSTAMP:20190705T000149Z
DTSTART:20190701T120000Z
DTEND:20190801T030000Z
SUMMARY:Happy Christmas (in July) at The Mercantile!
GEO:-33.857059;151.208328
LOCATION:The Mercantile Hotel\, 25-27 George Street\, The Rocks\, NSW\, 200
 0\, Australia
END:VEVENT
END:VCALENDAR
