BEGIN:VCALENDAR
VERSION:2.0
PRODID:-//Squarespace Inc/Squarespace 6//v6//EN
BEGIN:VEVENT
UID:5c95bbe9c67c2f0001fd1e01@squarespace.com
DTSTAMP:20191129T051133Z
DTSTART:20191205T220000Z
DTEND:20191206T013000Z
SUMMARY:JACK'S MOTOWN THURSDAYS WITH JUKES 
GEO:-33.857059;151.208328
LOCATION:The Mercantile Hotel\, 25-27 George Street\, Sydney\, Australia
END:VEVENT
END:VCALENDAR
