BEGIN:VCALENDAR
VERSION:2.0
PRODID:-//Squarespace Inc/Squarespace 6//v6//EN
BEGIN:VEVENT
UID:5c5e22634192028682cfa494@squarespace.com
DTSTAMP:20190209T010937Z
DTSTART:20190221T220000Z
DTEND:20190222T040000Z
SUMMARY:OVARIAN CANCER AWARENESS EVENING
GEO:-33.85721;151.208341
LOCATION:The Mercantile Hotel\, 25-27 George Street\, The Rocks\, NSW\, 200
 0\, Australia
END:VEVENT
END:VCALENDAR
