BEGIN:VCALENDAR
VERSION:2.0
PRODID:-//Squarespace Inc/Squarespace 6//v6//EN
BEGIN:VEVENT
UID:5df1e02e6e2f171b762f016b@squarespace.com
DTSTAMP:20191213T075745Z
DTSTART:20191213T220000Z
DTEND:20191214T010000Z
SUMMARY:FRIDAY ACOUSTIC SESSIONS
GEO:-33.857059;151.208328
LOCATION:The Mercantile Hotel\, 25-27 George Street\, The Rocks
END:VEVENT
END:VCALENDAR
