BEGIN:VCALENDAR
VERSION:2.0
PRODID:-//Squarespace Inc/Squarespace 6//v6//EN
BEGIN:VEVENT
UID:59e71956e45a7c7ff0be35e6@squarespace.com
DTSTAMP:20191029T032754Z
DTSTART:20191105T130000Z
DTEND:20191106T043000Z
SUMMARY:GIDDY UP\, IT'S MELBOURNE CUP
GEO:-33.857501;151.20866
LOCATION:Mercantile Hotel\, 25 George Street\, The Rocks\, NSW\, 2000\, Aus
 tralia
END:VEVENT
END:VCALENDAR
