BEGIN:VCALENDAR
VERSION:2.0
PRODID:-//Squarespace Inc/Squarespace 6//v6//EN
BEGIN:VEVENT
UID:5d77353c0f939b1b778fc7de@squarespace.com
DTSTAMP:20190911T114141Z
DTSTART:20191013T190000Z
DTEND:20191013T230000Z
SUMMARY:SUNDAY LIVE ENTERTAINMENT - THE GATHERING - SYDNEY TOUR
GEO:-33.857059;151.208328
LOCATION:The Mercantile Hotel\, 25-27 George Street\, The Rocks\, Sydney\, 
 Australia
END:VEVENT
END:VCALENDAR
