BEGIN:VCALENDAR
VERSION:2.0
PRODID:-//Squarespace Inc/Squarespace 6//v6//EN
BEGIN:VEVENT
UID:5b511cf62b6a28a4f4fa58ac@squarespace.com
DTSTAMP:20191002T054233Z
DTSTART:20191013T173000Z
DTEND:20191013T180000Z
SUMMARY:IRISH DANCING
GEO:-33.857059;151.208328
LOCATION:The Mercantile Hotel\, 25-27 George Street\, The Rocks\, NSW\, 200
 0\, Australia
END:VEVENT
END:VCALENDAR
