BEGIN:VCALENDAR
VERSION:2.0
PRODID:-//Squarespace Inc/Squarespace 6//v6//EN
BEGIN:VEVENT
UID:5ad88f14562fa75adba8ec34@squarespace.com
DTSTAMP:20190514T024714Z
DTSTART:20190524T220000Z
DTEND:20190616T030000Z
SUMMARY:VIVID 2019
GEO:29.945537;-90.066116
LOCATION:The Mercantile Hotel\, 25-27 George Street\, The Rocks\, NSW\, 200
 0\, Australia
END:VEVENT
END:VCALENDAR
