BEGIN:VCALENDAR
VERSION:2.0
PRODID:-//Squarespace Inc/Squarespace 6//v6//EN
BEGIN:VEVENT
UID:5aee5e36758d46898c41ef6f@squarespace.com
DTSTAMP:20190209T004419Z
DTSTART:20180513T160000Z
DTEND:20180514T030000Z
SUMMARY:Mother's Day
GEO:-33.85721;151.208341
LOCATION:The Mercantile Hotel\, 25-27 George Street\, The Rocks\, NSW\, 200
 0\, Australia
END:VEVENT
END:VCALENDAR
