BEGIN:VCALENDAR
VERSION:2.0
PRODID:-//Squarespace Inc/Squarespace 6//v6//EN
BEGIN:VEVENT
UID:5ad8902e1ae6cf3511296a1d@squarespace.com
DTSTAMP:20180621T054325Z
DTSTART:20180609T130000Z
DTEND:20180623T140000Z
SUMMARY:IRELAND RUGBY SERIES 2018
GEO:-33.85721;151.208341
LOCATION:The Mercantile Hotel\, 25-27 George Street\, The Rocks\, NSW\, 200
 0\, Australia
END:VEVENT
END:VCALENDAR
