BEGIN:VCALENDAR
VERSION:2.0
PRODID:-//Squarespace Inc/Squarespace 6//v6//EN
BEGIN:VEVENT
UID:5b2b3afd562fa7f65d13697a@squarespace.com
DTSTAMP:20190630T050846Z
DTSTART:20190710T233000Z
DTEND:20190711T020000Z
SUMMARY:STATE OF ORIGIN
GEO:-33.85721;151.208341
LOCATION:The Mercantile Hotel\, 25-27 George Street\, The Rocks\, NSW\, 200
 0\, Australia
END:VEVENT
END:VCALENDAR
