BEGIN:VCALENDAR
VERSION:2.0
PRODID:-//Squarespace Inc/Squarespace 6//v6//EN
BEGIN:VEVENT
UID:5ad88de003ce646d1a2aa15f@squarespace.com
DTSTAMP:20190414T070709Z
DTSTART:20190425T140000Z
DTEND:20190426T043000Z
SUMMARY:ANZAC DAY 2019
END:VEVENT
END:VCALENDAR
