BEGIN:VCALENDAR
VERSION:2.0
PRODID:-//Squarespace Inc/Squarespace 6//v6//EN
BEGIN:VEVENT
UID:5a90db4a9140b7427fe55f7a@squarespace.com
DTSTAMP:20180312T082454Z
DTSTART:20180317T110000Z
DTEND:20180320T140000Z
SUMMARY:St Patricks Day Breakfast 
END:VEVENT
END:VCALENDAR
