BEGIN:VCALENDAR
VERSION:2.0
PRODID:-//Squarespace Inc/Squarespace 6//v6//EN
BEGIN:VEVENT
UID:59b2067cd2b85729bb9ba977@squarespace.com
DTSTAMP:20180920T055414Z
DTSTART:20170908T030000Z
DTEND:20171001T040000Z
SUMMARY:FOOTY FEVER AT THE MERC
END:VEVENT
END:VCALENDAR
