BEGIN:VCALENDAR
VERSION:2.0
PRODID:-//Squarespace Inc/Squarespace 6//v6//EN
BEGIN:VEVENT
UID:5ba3360640ec9aa75451e97a@squarespace.com
DTSTAMP:20180920T060649Z
DTSTART:20180929T160000Z
DTEND:20181001T043000Z
SUMMARY:FOOTY FEVER AT THE MERC
GEO:-33.857059;151.208328
LOCATION:The Mercantile Hotel\, 25-27 George Street\, The Rocks\, Australia
END:VEVENT
END:VCALENDAR
