BEGIN:VCALENDAR
VERSION:2.0
PRODID:-//Squarespace Inc/Squarespace 6//v6//EN
BEGIN:VEVENT
UID:5982d5e6bebafb73ffd8ee68@squarespace.com
DTSTAMP:20200117T075727Z
DTSTART:20200119T150000Z
DTEND:20200120T043000Z
SUMMARY:MCGREGOR V COWBOY
GEO:-33.857059;151.208328
LOCATION:The Mercantile Hotel\, 25-27 George Street\, The Rocks\, NSW\, 200
 0\, Australia
END:VEVENT
END:VCALENDAR
