BEGIN:VCALENDAR
VERSION:2.0
PRODID:-//Squarespace Inc/Squarespace 6//v6//EN
BEGIN:VEVENT
UID:590873b446c3c49694b6ad2a@squarespace.com
DTSTAMP:20180725T024654Z
DTSTART:20170526T120000Z
DTEND:20170617T130000Z
SUMMARY:Vivid at The Mercantile 2017
END:VEVENT
END:VCALENDAR
