BEGIN:VCALENDAR
VERSION:2.0
PRODID:-//Squarespace Inc/Squarespace 6//v6//EN
BEGIN:VEVENT
UID:5b57e6d1575d1f147c6c892f@squarespace.com
DTSTAMP:20190530T063718Z
DTSTART:20190401T090000Z
DTEND:20200502T000000Z
SUMMARY:ROOFTOP BAR / DINING SPACE / VENUE UPGRADES
GEO:-33.857059;151.208328
LOCATION:The Mercantile Hotel\, 25 George Street\, The Rocks\, NSW\, 2000\, 
 Australia
END:VEVENT
END:VCALENDAR
