BEGIN:VCALENDAR
VERSION:2.0
PRODID:-//Squarespace Inc/Squarespace 6//v6//EN
BEGIN:VEVENT
UID:58f05c7237c581141182696f@squarespace.com
DTSTAMP:20190607T004331Z
DTSTART:20190610T200000Z
DTEND:20190611T000000Z
SUMMARY:PUBLIC HOLIDAY MONDAY
END:VEVENT
END:VCALENDAR
