BEGIN:VCALENDAR
VERSION:2.0
PRODID:-//Squarespace Inc/Squarespace 6//v6//EN
BEGIN:VEVENT
UID:58f05970f5e231091c41bc87@squarespace.com
DTSTAMP:20170414T051240Z
DTSTART:20170415T190000Z
DTEND:20170418T043000Z
SUMMARY:Easter Saturday 
END:VEVENT
END:VCALENDAR
