BEGIN:VCALENDAR
VERSION:2.0
PRODID:-//Squarespace Inc/Squarespace 6//v6//EN
BEGIN:VEVENT
UID:58f05897a5790a8991a9020c@squarespace.com
DTSTAMP:20170414T050830Z
DTSTART:20170414T190000Z
DTEND:20170415T020000Z
SUMMARY:Good Friday 
END:VEVENT
END:VCALENDAR
