BEGIN:VCALENDAR
VERSION:2.0
PRODID:-//Squarespace Inc/Squarespace 6//v6//EN
BEGIN:VEVENT
UID:58f0576215d5db893a74edb2@squarespace.com
DTSTAMP:20190414T074357Z
DTSTART:20190419T130000Z
DTEND:20190423T033000Z
SUMMARY:Easter Long Weekend 
GEO:-33.857059;151.208328
LOCATION:The Mercantile Hotel\, 25-27 George Street\, The Rocks\, Sydney\, 
 Australia
END:VEVENT
END:VCALENDAR
